BEGIN:VCALENDAR
VERSION:2.0
PRODID:-//Bernalillo County Home Visiting Work Group - ECPv6.15.20//NONSGML v1.0//EN
CALSCALE:GREGORIAN
METHOD:PUBLISH
X-WR-CALNAME:Bernalillo County Home Visiting Work Group
X-ORIGINAL-URL:https://bchomevisiting.com
X-WR-CALDESC:Events for Bernalillo County Home Visiting Work Group
REFRESH-INTERVAL;VALUE=DURATION:PT1H
X-Robots-Tag:noindex
X-PUBLISHED-TTL:PT1H
BEGIN:VTIMEZONE
TZID:America/Denver
BEGIN:DAYLIGHT
TZOFFSETFROM:-0700
TZOFFSETTO:-0600
TZNAME:MDT
DTSTART:20250309T090000
END:DAYLIGHT
BEGIN:STANDARD
TZOFFSETFROM:-0600
TZOFFSETTO:-0700
TZNAME:MST
DTSTART:20251102T080000
END:STANDARD
BEGIN:DAYLIGHT
TZOFFSETFROM:-0700
TZOFFSETTO:-0600
TZNAME:MDT
DTSTART:20260308T090000
END:DAYLIGHT
BEGIN:STANDARD
TZOFFSETFROM:-0600
TZOFFSETTO:-0700
TZNAME:MST
DTSTART:20261101T080000
END:STANDARD
BEGIN:DAYLIGHT
TZOFFSETFROM:-0700
TZOFFSETTO:-0600
TZNAME:MDT
DTSTART:20270314T090000
END:DAYLIGHT
BEGIN:STANDARD
TZOFFSETFROM:-0600
TZOFFSETTO:-0700
TZNAME:MST
DTSTART:20271107T080000
END:STANDARD
END:VTIMEZONE
BEGIN:VTIMEZONE
TZID:America/Denver
BEGIN:DAYLIGHT
TZOFFSETFROM:-0700
TZOFFSETTO:-0600
TZNAME:MDT
DTSTART:20250309T090000
END:DAYLIGHT
BEGIN:STANDARD
TZOFFSETFROM:-0600
TZOFFSETTO:-0700
TZNAME:MST
DTSTART:20251102T080000
END:STANDARD
BEGIN:DAYLIGHT
TZOFFSETFROM:-0700
TZOFFSETTO:-0600
TZNAME:MDT
DTSTART:20260308T090000
END:DAYLIGHT
BEGIN:STANDARD
TZOFFSETFROM:-0600
TZOFFSETTO:-0700
TZNAME:MST
DTSTART:20261101T080000
END:STANDARD
BEGIN:DAYLIGHT
TZOFFSETFROM:-0700
TZOFFSETTO:-0600
TZNAME:MDT
DTSTART:20270314T090000
END:DAYLIGHT
BEGIN:STANDARD
TZOFFSETFROM:-0600
TZOFFSETTO:-0700
TZNAME:MST
DTSTART:20271107T080000
END:STANDARD
END:VTIMEZONE
BEGIN:VEVENT
DTSTART;VALUE=DATE:20260421
DTEND;VALUE=DATE:20260424
DTSTAMP:20260421T031236
CREATED:20260313T114841Z
LAST-MODIFIED:20260313T114853Z
UID:10000028-1776729600-1776988799@bchomevisiting.com
SUMMARY:DC:0—5™: Clinical Training
DESCRIPTION:April 21-23 | Price: $549 Members: $524 \nIf you are involved in assessment\, diagnosis and case formulation\, this is your chance to dive deeply into the tools that matter most! DC:0–5™ Diagnostic Classification of Mental Health and Developmental Disorders of Infancy and Early Childhood is a groundbreaking resource for thousands of mental health clinicians\, psychiatrists\, pediatricians\, nurse practitioners and early intervention therapists across the globe \nRegister for April<https://click.connect.zerotothree.org/?qs=eyJkZWtJZCI6IjkwYTliNzRiLTMxMTQtNDRkZC1hMDdkLTQ4YTA3NjA2ZDE4MSIsImRla1ZlcnNpb24iOjEsIml2IjoiQ09FRDlyMktadkM1MFJsS1grQlJFQT09IiwiY2lwaGVyVGV4dCI6ImxXR0ZoNXRoejN1SmJ4Z2NsSUw4K1dUUjNnbUFqdUxlZ2xlYXNST0pHVTF0R1FadFRuVG03cWxBRGFNcVFqenQxN3hOSlhEWENUSUtEV0NJckphQVVoWlg3NE1xbHJmaENPRUQ5cjJLWnZDNTBSbEtYK0JSRUE9PSIsImF1dGhUYWciOiJDZzFnaUt5V2dGSVdWKytES3BhMzRRPT0ifQ%3D%3D>
URL:https://bchomevisiting.com/event/dc0-5-clinical-trainin/
LOCATION:New Mexico
CATEGORIES:Professional Development Events and Opportunities
END:VEVENT
BEGIN:VEVENT
DTSTART;TZID=America/Denver:20260421T100000
DTEND;TZID=America/Denver:20260421T110000
DTSTAMP:20260421T031236
CREATED:20260313T112740Z
LAST-MODIFIED:20260313T112740Z
UID:10000024-1776765600-1776769200@bchomevisiting.com
SUMMARY:Family Connections Group
DESCRIPTION:Family Connections \nTuesday\, 4/21 \n10:00 AM – 11:00 AM \nFamily Connections is a safe and supportive space where families of individuals with disabilities can connect with one another\, share their experiences\, and access valuable information and resources. \nRegister<https://y6iwnlbbb.cc.rs6.net/tn.jsp?f=001ZXh9iG2ru6tEM2KXI0Apm8o4MqNWCBVX3smuc0HYC_xrLXaUK–bt7gAQFAtKLm9ciiSFN0DBTxG6R9q7kNyo0NT6mAyLzcfUM8gXOFdmcN_opWhKNFezrei2hKCSBDvre5OSROZ3PzVJirWWLZr9Sa8ISA8rLFlbhS6CI2CZFFq5KhPHyhI4mxt8HGbh7qcfhu1RLvA98fC6VUyy3fYn_SWG8O2vKwli7T4lIRWNAg=&c=GnzvOFyRNlYmJ75lVq_Gu1japSeGgJEKmhi7jZuLOfinx6QggY8_cA==&ch=RTKDmbeTWc2Z_P6Ltumyhs6nT0Eoqs8SMsWgF3TVg0nPsDE3ihRPtA==>
URL:https://bchomevisiting.com/event/family-connections-group/
LOCATION:https://bchomevisiting.com/event/family-connections-group/
CATEGORIES:Family Events
END:VEVENT
BEGIN:VEVENT
DTSTART;TZID=America/Denver:20260421T110000
DTEND;TZID=America/Denver:20260421T130000
DTSTAMP:20260421T031236
CREATED:20260408T200945Z
LAST-MODIFIED:20260408T200945Z
UID:10002437-1776769200-1776776400@bchomevisiting.com
SUMMARY:Hole In The Heart: PB&J Family Services
DESCRIPTION:A presentation from a new program that focuses on: \n-Heart Disease Awareness in early development \n-Advocacy for parents \n-Building partnerships \n  \nApril 21 st 11:00am-1:00pm PB&J SE 209 San Pablo St. Se Albuquerque\, NM 87108 Please RSVP by April 10th to ciera@pbjfamilyservices.org
URL:https://bchomevisiting.com/event/hole-in-the-heart-pbj-family-services/
LOCATION:PB&J Family Services\, 209 San Pablo St. SE\, Albuquerque\, NM\, 87108\, United States
CATEGORIES:Maternal Health Events and Opportunities
ATTACH;FMTTYPE=application/pdf:https://bchomevisiting.com/wp-content/uploads/2026/04/Presentation-Invite-Flyer-by-PBJ.pdf
END:VEVENT
BEGIN:VEVENT
DTSTART;TZID=America/Denver:20260421T180000
DTEND;TZID=America/Denver:20260421T193000
DTSTAMP:20260421T031236
CREATED:20260416T201557Z
LAST-MODIFIED:20260416T201557Z
UID:10002458-1776794400-1776799800@bchomevisiting.com
SUMMARY:Know Your Rights Webinar: NM Center on Law & Poverty
DESCRIPTION:The New Mexico Center on Law and Poverty is hosting a free public webinar on April 21\, 2026 at 6pm. The Know Your Rights webinar is open to all New Mexicans who are interested in understanding recent federal changes to food assistance\, including community members\, advocates\, service providers\, and media professionals. \n\n\n\n\n\n\n\n\n\n\nAs of January 1\, 2026 there are new work requirements and changes to immigrant eligibility impacting New Mexicans as they apply for or renew their SNAP food assistance benefits. \n\n\n\n\n\n\n\n\n\n\nThe webinar will cover: \n\n\n\n\n\n\n\n\n\n\n\nWho qualifies for food assistance\nChanges to work requirements\nChanges to immigrant eligibility\nImportant rights for people receiving SNAP food assistance\n\n\n\n\n\n\n\n\n\n\n\nDate: April 21\, 2026 \nTime: 6:00 – 7:30 pm \n\nRegister Here: Meeting Registration – Zoom
URL:https://bchomevisiting.com/event/know-your-rights-webinar-nm-center-on-law-poverty/
LOCATION:
CATEGORIES:Parent & Caregiver Events and Opportunities
END:VEVENT
BEGIN:VEVENT
DTSTART;TZID=America/Denver:20260422T090000
DTEND;TZID=America/Denver:20260422T103000
DTSTAMP:20260421T031236
CREATED:20260327T190047Z
LAST-MODIFIED:20260327T190047Z
UID:10002424-1776848400-1776853800@bchomevisiting.com
SUMMARY:PEACE: Parent Education About Autism & Caregiver Empowerment Trainings (Virtual)
DESCRIPTION:PEACE: Parent Education about Autism and Caregiver Empowerment \nThe PEACE Group is an informational series dedicated to providing evidence-based education about Autism Spectrum Disorder (ASD) and empowering caregivers of children newly diagnosed with ASD. \nThe PEACE Program consists of four informational sessions. \nWhat is ASD? is the first session\, and its focus is on providing information about the symptoms and diagnostic criteria of Autism Spectrum Disorder (ASD). \nInterventions is the second session\, and its focus is on teaching about the types of\nevidence-based interventions in educational and medical settings. \nSupportive Strategies is the third session\, with a focus on describing evidence-based\nstrategies to help with behavior\, sensory\, and communication needs. \nNext Steps is the fourth and final session\, with a focus on outlining resources available across the lifespan to help support individuals with ASD. \nAs a reminder\, these VIRTUAL sessions will be held every Wednesday in April 2026 as follows: \no Wednesday April 1\, 2026 9:00-10:30am – What is Autism \no Wednesday April 8\, 2026 9:00-10:30am – Interventions in Autism \no Wednesday April 15\, 2026 9:00-10:30am – Strategies \no Wednesday April 22\, 2026 9:00-10:30am – Next Steps \nRegistration link: https://reg.learningstream.com/reg/event_page.aspx?ek=0033-0021-1118f5fd8968470db9253af63d5e4f8d \nQuestions? Contact Sylvia Acosta\, PhD at syacosta@salud.unm.edu or 505-272-1852.
URL:https://bchomevisiting.com/event/peace-parent-education-about-autism-caregiver-empowerment-trainings-virtual/2026-04-22/
LOCATION:
CATEGORIES:Maternal Health Events and Opportunities,Parent & Caregiver Events and Opportunities
ATTACH;FMTTYPE=application/pdf:https://bchomevisiting.com/wp-content/uploads/2026/03/PEACE-April-2026.pdf
END:VEVENT
BEGIN:VEVENT
DTSTART;TZID=America/Denver:20260422T100000
DTEND;TZID=America/Denver:20260422T140000
DTSTAMP:20260421T031236
CREATED:20260326T223216Z
LAST-MODIFIED:20260326T223216Z
UID:10002415-1776852000-1776866400@bchomevisiting.com
SUMMARY:UNM Health Sciences: Child Abuse Prevention Day
DESCRIPTION:The University of New Mexico Section on Child Safety and Well-Being and the UNM Child Health Grand Challenge Team invite you to join us. \nCHILD ABUSE PREVENTION DAY APRIL 22 2026 | 10 A.M. – 2 P.M. Barbara and Bill Richardson Pavilion at UNM Hospital 2211 Lomas Blvd. NE\, Albuquerque\, NM 87106 \nWe invite you to wear Blue in recognition of Child Abuse Prevention Month. \nVisit our website for more information A day of networking and learning about child maltreatment\, risk and protective factors\, and promising interventions in New Mexico The Section on Child Safety and Wellbeing will be accepting donations of NEW clothes\, books and comfort items for children and youth at the fair.
URL:https://bchomevisiting.com/event/unm-health-sciences-child-abuse-prevention-day/
LOCATION:Barbara and Bill Richardson Pavilion at UNM Hospital\, 2211 Lomas Blvd. NE\, Albuquerque\, NM\, 87106\, United States
CATEGORIES:Family Events,Parent & Caregiver Events and Opportunities
ATTACH;FMTTYPE=application/pdf:https://bchomevisiting.com/wp-content/uploads/2026/03/UNM-Child-Abuse-Awareness-2026.pdf
END:VEVENT
BEGIN:VEVENT
DTSTART;TZID=America/Denver:20260422T120000
DTEND;TZID=America/Denver:20260422T130000
DTSTAMP:20260421T031236
CREATED:20260324T184112Z
LAST-MODIFIED:20260324T184112Z
UID:10002412-1776859200-1776862800@bchomevisiting.com
SUMMARY:UNM FDP: Civic Engagement/Leadership Training Part 1 (Virtual)
DESCRIPTION:The UNM Family Development Program is excited to offer these workshops for the month of APRIL. \nVarious Learning Objectives and competencies include: \n\nFamily & Community Collaboration\nProfessional Development\nDevelopmentally Appropriate Content\n\nPart 1 of a Two-Part Series: Civic Engagement/Leadership: Share the Heart of Your Work by Creating Your Impact Snapshot. Sometimes you only have a moment to share the heart of the work you do. In this workshop\, participants will learn how to clearly identify who they are\, what they do\, and why their work matters. Together\, we’ll turn those ideas into a powerful and concise impact snapshot – a message you can confidently use to spark conversations\, build connections\, and strengthen partnerships in your community. \nRegister here: April 22\, 2026 12PM-1PM Part 1 of a Two-Part Series: Share the Heart of Your Work by Creating Your Impact Snapshot – Intellistack
URL:https://bchomevisiting.com/event/unm-fdp-civic-engagement-leadership-training-part-1-virtual/
LOCATION:New Mexico
CATEGORIES:Parent & Caregiver Events and Opportunities,Professional Development Events and Opportunities
ATTACH;FMTTYPE=image/jpeg:https://bchomevisiting.com/wp-content/uploads/2026/03/FDP-Trainings-4.26.jpg
END:VEVENT
BEGIN:VEVENT
DTSTART;TZID=America/Denver:20260422T160000
DTEND;TZID=America/Denver:20260422T180000
DTSTAMP:20260421T031236
CREATED:20260413T233421Z
LAST-MODIFIED:20260413T233421Z
UID:10002454-1776873600-1776880800@bchomevisiting.com
SUMMARY:New Mexico Kids Matter Open House
DESCRIPTION:New Mexico Kids Matter Open House: \n\nMeet our staff\nMeet our volunteers\nDiscover ways to get involved!\n\nLearn more and RSVP at newmexicokidsmatter.org
URL:https://bchomevisiting.com/event/new-mexico-kids-matter-open-house/2026-04-22/
LOCATION:New Mexico Kids Matter\, 2340 Alamo Ave SE. Ste 112\, Albuquerque\, 87106\, United States
CATEGORIES:Family Events,Parent & Caregiver Events and Opportunities
ATTACH;FMTTYPE=image/png:https://bchomevisiting.com/wp-content/uploads/2026/04/CASA-101-1.png
END:VEVENT
BEGIN:VEVENT
DTSTART;TZID=America/Denver:20260423T173000
DTEND;TZID=America/Denver:20260423T183000
DTSTAMP:20260421T031236
CREATED:20260313T112901Z
LAST-MODIFIED:20260313T112901Z
UID:10000025-1776965400-1776969000@bchomevisiting.com
SUMMARY:From Home to School: Supports That Build Calm and Confidence
DESCRIPTION:This workshop teaches simple ways families and schools can work together to help children feel calm and confident. You will learn how to recommend clear routines\, helpful supports\, and good communication as the foundation of your child’s calm\, confident education when advocating for your child with the IEP team. \nSupports That Build Calm and Confidence \nThursday 4/23 \n5:30 PM – 6:30 PM \nThis workshop teaches simple ways families and schools can work together to help children feel calm and confident. You will learn how to recommend clear routines\, helpful supports\, and good communication as the foundation of your child’s calm\, confident education when advocating for your child with the IEP team. \nRegister<https://y6iwnlbbb.cc.rs6.net/tn.jsp?f=001ZXh9iG2ru6tEM2KXI0Apm8o4MqNWCBVX3smuc0HYC_xrLXaUK–bt_xfuCfEzzfozo2r1N3TkXeYPqXQoBE1_kA_SfPq5tenr7WZUimG6ghkRUvc8Vn5M-0WweDWHrmml70wYH0eruhhmzk1LyZPuKhpi9oFPi3PIXRzbPgRNlYL2wCTU5S0Zys9gkSsvr9VIGHwmaWIcMOE0zf2ITTDWR71nyt54V56ZxtD-DJVe-oehbclXm1dsS_g0TC-PRzw0YdpBP7Z-RzPwzFEhEml65m7yzXd5C0z4b_xV8hV8WVRX2v_i7JnP1Sj5c3ANCTo8OluHxECGPZfih9OjttKy3Kl0D40o49s0goHtjXmspizIMqsCOLfEg==&c=GnzvOFyRNlYmJ75lVq_Gu1japSeGgJEKmhi7jZuLOfinx6QggY8_cA==&ch=RTKDmbeTWc2Z_P6Ltumyhs6nT0Eoqs8SMsWgF3TVg0nPsDE3ihRPtA==>
URL:https://bchomevisiting.com/event/from-home-to-school-supports-that-build-calm-and-confidence/
LOCATION:https://bchomevisiting.com/event/from-home-to-school-supports-that-build-calm-and-confidence/
CATEGORIES:Family Events
END:VEVENT
BEGIN:VEVENT
DTSTART;TZID=America/Denver:20260425T090000
DTEND;TZID=America/Denver:20260425T110000
DTSTAMP:20260421T031236
CREATED:20260318T161848Z
LAST-MODIFIED:20260318T161848Z
UID:10001875-1777107600-1777114800@bchomevisiting.com
SUMMARY:Ruth’s Closet: Free Women’s Boutique
DESCRIPTION:Ruth’s Closet is a clothing Boutique inside of Mesa View United Methodist worship center located on the Westside on the corner of Taylor Ranch Rd and Montano at 4701 Montano NW.  The boutique provides new and used clothing\, handbags and toiletry items to women in need no matter what they are transitioning from–no questions asked. \nAt this time\, each guest will receive 10 items of clothing (sizes permitting)\, two pair of shoes\, a purse\, new socks and other items as we have available. \nPlease refer your clients by calling\, texting or emailing Mary with the client name\, phone number\, and email.\nMary’s phone number is 505-440-4878 and email is teammary@yahoo.com. Appointments for groups of 4 or 5 women are welcome! Please encourage any woman you refer to notify you if for any reason she is unable to make it to her appointment\, and then you or she can notify Mary of the cancellation. \nThe hours available for appointments–referral or self-referral–are:\n–Wednesdays\, 4 to 6 pm\n–Fridays\, 9 to 11 am\n–Saturdays\, 9 to 11 am\n–Sundays\, 10 am\n———————–\nNo donated items needed now except an ongoing need for (new) makeup and toiletry items. Ruth’s Closet serves both housed and unhoused women. Monetary donations always welcome for purchase of some items.
URL:https://bchomevisiting.com/event/ruths-closet-free-womens-boutique-4/2026-04-25/
LOCATION:Mesa View United Methodist Church\, 4701 Montano Rd NW\, Albuquerque\, NM\, 87120\, United States
CATEGORIES:Parent & Caregiver Events and Opportunities
ATTACH;FMTTYPE=application/pdf:https://bchomevisiting.com/wp-content/uploads/2026/03/Ruths-Closet-2.pdf
END:VEVENT
BEGIN:VEVENT
DTSTART;TZID=America/Denver:20260426T100000
DTEND;TZID=America/Denver:20260426T110000
DTSTAMP:20260421T031236
CREATED:20260318T162129Z
LAST-MODIFIED:20260318T162129Z
UID:10002136-1777197600-1777201200@bchomevisiting.com
SUMMARY:Ruth’s Closet: Free Women’s Boutique
DESCRIPTION:Ruth’s Closet is a clothing Boutique inside of Mesa View United Methodist worship center located on the Westside on the corner of Taylor Ranch Rd and Montano at 4701 Montano NW.  The boutique provides new and used clothing\, handbags and toiletry items to women in need no matter what they are transitioning from–no questions asked. \nAt this time\, each guest will receive 10 items of clothing (sizes permitting)\, two pair of shoes\, a purse\, new socks and other items as we have available. \nPlease refer your clients by calling\, texting or emailing Mary with the client name\, phone number\, and email.\nMary’s phone number is 505-440-4878 and email is teammary@yahoo.com. Appointments for groups of 4 or 5 women are welcome! Please encourage any woman you refer to notify you if for any reason she is unable to make it to her appointment\, and then you or she can notify Mary of the cancellation. \nThe hours available for appointments–referral or self-referral–are:\n–Wednesdays\, 4 to 6 pm\n–Fridays\, 9 to 11 am\n–Saturdays\, 9 to 11 am\n–Sundays\, 10 am\n———————–\nNo donated items needed now except an ongoing need for (new) makeup and toiletry items. Ruth’s Closet serves both housed and unhoused women. Monetary donations always welcome for purchase of some items.
URL:https://bchomevisiting.com/event/ruths-closet-free-womens-boutique-5/2026-04-26/
LOCATION:Mesa View United Methodist Church\, 4701 Montano Rd NW\, Albuquerque\, NM\, 87120\, United States
CATEGORIES:Parent & Caregiver Events and Opportunities
ATTACH;FMTTYPE=application/pdf:https://bchomevisiting.com/wp-content/uploads/2026/03/Ruths-Closet-3.pdf
END:VEVENT
BEGIN:VEVENT
DTSTART;TZID=America/Denver:20260427T180000
DTEND;TZID=America/Denver:20260427T190000
DTSTAMP:20260421T031236
CREATED:20260313T161517Z
LAST-MODIFIED:20260408T102521Z
UID:10000036-1777312800-1777316400@bchomevisiting.com
SUMMARY:Lovelace: Loving Start- Preparing for Postpartum Class
DESCRIPTION:Please join our no-cost Preparing for Postpartum class featuring the evidence based R.O.S.E.S (Reach Out\, Stay Strong\, Essentials for mothers of newborns) curriculum\, led by Stephanie Rice\, Registered Nurse\, and Catherine Roth\, Licensed Master Social Worker. This class is for birthing people only and they may join any class at any time. \nDATES: April 13 and 27\, July 13 and 27\, October 12 and 26 \nTIME: 6:00 p.m. – 7:00 p.m. \nLOCATION: Lovelace Women’s Hospital – OB/GYN 4705 Montgomery Blvd NE\, Ste 301 Albuquerque NM 87109 \nRSVP: Call 505-898-3030
URL:https://bchomevisiting.com/event/lovelace-loving-start-preparing-for-postpartum-class/2026-04-27/
LOCATION:4705 Montgomery Blvd NE\, Ste 301 Albuquerque NM 87109\, 4705 Montgomery Blvd. NE\, Albuquerque\, NM\, 87109\, United States
CATEGORIES:Maternal Health Events and Opportunities
ATTACH;FMTTYPE=application/pdf:https://bchomevisiting.com/wp-content/uploads/2026/03/39894-LOVELACE-Loving-Start-Preparing-for-Postpartum-Class-Flyer-REVISE-FLYER_V1.pdf
END:VEVENT
BEGIN:VEVENT
DTSTART;TZID=America/Denver:20260429T100000
DTEND;TZID=America/Denver:20260429T160000
DTSTAMP:20260421T031236
CREATED:20260421T010038Z
LAST-MODIFIED:20260421T010107Z
UID:10002463-1777456800-1777478400@bchomevisiting.com
SUMMARY:SNAP & Medicaid Training for New Mexico Community Partners
DESCRIPTION:Join us in Albuquerque for a SNAP & Medicaid training. \n\n\n\nThe New Mexico SNAP & Medicaid Partner Training will be held on April 29 in partnership with the Health Care Authority and the New Mexico Center for Law and Poverty. The meeting will take place at the Courtyard Marriott (5151 Journal Center Blvd NE) in Albuquerque from 10:00 AM to 4:00 PM. \nThe training is designed to help organizations like yours better understand recent federal policy changes affecting SNAP and how the state is implementing those changes. The training will also outline anticipated changes to Medicaid. New Mexico is still waiting for final federal guidance on Medicaid\, so this portion of the training will be a conversation about what to potentially expect\, with more opportunities to engage with HCA in the future once final changes are determined. \nInformation\, resources\, and strategies will be provided to support your work with individuals and families in your community who may need or are currently participating in these programs. \nFor members of the New Mexico Community of Practice\, there will be an optional dinner on Wednesday\, April 29 (location TBD) and an in-person Community of Practice meeting on April 30\, also at the Courtyard Marriott. \nRegister Here: SNAP & Medicaid Training for New Mexico Community Partners Tickets\, Wednesday\, April 29  •  10 AM – 4 PM | Eventbrite
URL:https://bchomevisiting.com/event/snap-medicaid-training-for-new-mexico-community-partners/
LOCATION:Courtyard by Marriott\, 5151 Journal Center\, Albuquerque\, NM\, 87109\, United States
CATEGORIES:Professional Development Events and Opportunities
ATTACH;FMTTYPE=image/webp:https://bchomevisiting.com/wp-content/uploads/2026/04/image.webp
ORGANIZER;CN="Policy Equity Group":MAILTO:coordinator2@bchvwg.com
END:VEVENT
BEGIN:VEVENT
DTSTART;TZID=America/Denver:20260429T120000
DTEND;TZID=America/Denver:20260429T130000
DTSTAMP:20260421T031236
CREATED:20260324T200600Z
LAST-MODIFIED:20260324T200600Z
UID:10002413-1777464000-1777467600@bchomevisiting.com
SUMMARY:UNM FDP: Civic Engagement/Leadership Training Part 2 (Virtual)
DESCRIPTION:The UNM Family Development Program is excited to offer these workshops for the month of APRIL. \nVarious Learning Objectives and competencies include: \n\nFamily & Community Collaboration\nProfessional Development\nDevelopmentally Appropriate Content\n\nPart 2 of a two-part series: Civic Engagement/Leadership: Join us for an engaging session to learn more about how you can become a leader and empower other leaders in Civic Engagement. You can think about how your organization might develop a plan for outreach and Civic Engagement through relationship-based community organizing principles. \nRegister here: https://forms.unm.edu/forms/fdp_register_copy_167_copy_9
URL:https://bchomevisiting.com/event/unm-fdp-civic-engagement-leadership-training-part-2-virtual/
LOCATION:New Mexico
CATEGORIES:Parent & Caregiver Events and Opportunities,Professional Development Events and Opportunities
ATTACH;FMTTYPE=image/jpeg:https://bchomevisiting.com/wp-content/uploads/2026/03/FDP-Trainings-4.26-1.jpg
END:VEVENT
BEGIN:VEVENT
DTSTART;TZID=America/Denver:20260430T120000
DTEND;TZID=America/Denver:20260430T130000
DTSTAMP:20260421T031236
CREATED:20260413T232814Z
LAST-MODIFIED:20260413T232814Z
UID:10002453-1777550400-1777554000@bchomevisiting.com
SUMMARY:New Mexico Kids Matter CASA 101 (Virtual)
DESCRIPTION:Join us for a free 45 minute virtual session to learn about the CASA ( Court Appointed Special Advocate) program. We’ll talk with you about what CASA volunteers do \, the time you’ll need to commit\, what training looks like\, and how can you advocate for children who have been abused and neglected. \nRegister here: New Mexico Kids Matter CASA 101
URL:https://bchomevisiting.com/event/new-mexico-kids-matter-casa-101-virtual/
LOCATION:
CATEGORIES:Professional Development Events and Opportunities
ATTACH;FMTTYPE=image/png:https://bchomevisiting.com/wp-content/uploads/2026/04/CASA-101.png
END:VEVENT
END:VCALENDAR